BEGIN:VCALENDAR
VERSION:2.0
PRODID:-//Freundeskreis des Botanischen Gartens der Universität Potsdam e.V. - ECPv6.15.20//NONSGML v1.0//EN
CALSCALE:GREGORIAN
METHOD:PUBLISH
X-WR-CALNAME:Freundeskreis des Botanischen Gartens der Universität Potsdam e.V.
X-ORIGINAL-URL:https://botg-potsdam.de
X-WR-CALDESC:Veranstaltungen für Freundeskreis des Botanischen Gartens der Universität Potsdam e.V.
REFRESH-INTERVAL;VALUE=DURATION:PT1H
X-Robots-Tag:noindex
X-PUBLISHED-TTL:PT1H
BEGIN:VTIMEZONE
TZID:Europe/Berlin
BEGIN:DAYLIGHT
TZOFFSETFROM:+0100
TZOFFSETTO:+0200
TZNAME:CEST
DTSTART:20250330T010000
END:DAYLIGHT
BEGIN:STANDARD
TZOFFSETFROM:+0200
TZOFFSETTO:+0100
TZNAME:CET
DTSTART:20251026T010000
END:STANDARD
BEGIN:DAYLIGHT
TZOFFSETFROM:+0100
TZOFFSETTO:+0200
TZNAME:CEST
DTSTART:20260329T010000
END:DAYLIGHT
BEGIN:STANDARD
TZOFFSETFROM:+0200
TZOFFSETTO:+0100
TZNAME:CET
DTSTART:20261025T010000
END:STANDARD
BEGIN:DAYLIGHT
TZOFFSETFROM:+0100
TZOFFSETTO:+0200
TZNAME:CEST
DTSTART:20270328T010000
END:DAYLIGHT
BEGIN:STANDARD
TZOFFSETFROM:+0200
TZOFFSETTO:+0100
TZNAME:CET
DTSTART:20271031T010000
END:STANDARD
END:VTIMEZONE
BEGIN:VEVENT
DTSTART;TZID=Europe/Berlin:20261209T170000
DTEND;TZID=Europe/Berlin:20261209T180000
DTSTAMP:20260422T122511
CREATED:20221219T151538Z
LAST-MODIFIED:20260419T125112Z
UID:372-1796835600-1796839200@botg-potsdam.de
SUMMARY:Klimawandel und Klimaschutz im Kaukasus - Forschung in georgischen Mooren.
DESCRIPTION:Vortrag von Dr. Matthias Krebs\, Uni & Moorforschungszentrum Greifswald \nOrt: Großer Hörsaal Botanik\, Maulbeerallee 2a\, 14469 Potsdam\nEintritt: 3 €\, ermäßigt 1\,50 €\, Freundeskreis frei\nKontakt:  Dr. Michael Burkart\, Telefon +49 331 977 1936\, mburkart@uni-potsdam.de
URL:https://botg-potsdam.de/veranstaltung/aufgepasst-sonst-schnappen-sie-zu/
LOCATION:Schaugewächshäuser
CATEGORIES:Aktionsprogramm für Kinder
ORGANIZER;CN="Botanischer Garten der Universit%C3%A4t Potsdam":MAILTO:botanischer-garten@uni-potsdam.de
END:VEVENT
END:VCALENDAR