BEGIN:VCALENDAR
VERSION:2.0
PRODID:-//Freundeskreis des Botanischen Gartens der Universität Potsdam e.V. - ECPv6.15.20//NONSGML v1.0//EN
CALSCALE:GREGORIAN
METHOD:PUBLISH
X-ORIGINAL-URL:https://botg-potsdam.de
X-WR-CALDESC:Veranstaltungen für Freundeskreis des Botanischen Gartens der Universität Potsdam e.V.
REFRESH-INTERVAL;VALUE=DURATION:PT1H
X-Robots-Tag:noindex
X-PUBLISHED-TTL:PT1H
BEGIN:VTIMEZONE
TZID:Europe/Berlin
BEGIN:DAYLIGHT
TZOFFSETFROM:+0100
TZOFFSETTO:+0200
TZNAME:CEST
DTSTART:20250330T010000
END:DAYLIGHT
BEGIN:STANDARD
TZOFFSETFROM:+0200
TZOFFSETTO:+0100
TZNAME:CET
DTSTART:20251026T010000
END:STANDARD
BEGIN:DAYLIGHT
TZOFFSETFROM:+0100
TZOFFSETTO:+0200
TZNAME:CEST
DTSTART:20260329T010000
END:DAYLIGHT
BEGIN:STANDARD
TZOFFSETFROM:+0200
TZOFFSETTO:+0100
TZNAME:CET
DTSTART:20261025T010000
END:STANDARD
BEGIN:DAYLIGHT
TZOFFSETFROM:+0100
TZOFFSETTO:+0200
TZNAME:CEST
DTSTART:20270328T010000
END:DAYLIGHT
BEGIN:STANDARD
TZOFFSETFROM:+0200
TZOFFSETTO:+0100
TZNAME:CET
DTSTART:20271031T010000
END:STANDARD
BEGIN:DAYLIGHT
TZOFFSETFROM:+0100
TZOFFSETTO:+0200
TZNAME:CEST
DTSTART:20280326T010000
END:DAYLIGHT
BEGIN:STANDARD
TZOFFSETFROM:+0200
TZOFFSETTO:+0100
TZNAME:CET
DTSTART:20281029T010000
END:STANDARD
END:VTIMEZONE
BEGIN:VEVENT
DTSTART;TZID=Europe/Berlin:20260912T100000
DTEND;TZID=Europe/Berlin:20260912T150000
DTSTAMP:20260421T190303
CREATED:20230120T102636Z
LAST-MODIFIED:20260419T122638Z
UID:407-1789207200-1789225200@botg-potsdam.de
SUMMARY:Pflanzenbasar
DESCRIPTION:Der Freundeskreis des Botanischen Gartens führt auch in diesem Frühjahr wieder seinen traditionellen Pflanzenbasar durch. Dort kann man eine Vielzahl an Stauden\, Gehölzen\, Gräsern\, Farnen\, Topfpflanzen\, Kakteen und Sukkulenten sowie Sämereien für Innenräume und Außengelände preisgünstig erwerben\, sowohl Raritäten als auch bewährte Arten und Sorten. Der Erlös fließt der Erhaltung und dem weiteren Ausbau des Botanischen Gartens zu. \nErfahrungsgemäß empfiehlt es sich\, pünktlich zur Eröffnung anwesend zu sein\, um unter den besten Stücken auswählen zu können. \nParkplätze sind in begrenztem Umfang vorhanden. \nOrt: Schaugewächshäuser\, Maulbeerallee 2\, 14469 Potsdam\nEintritt: 4 €\, ermäßigt 2 €\, Mitglieder des Freundeskreises frei\nKontakt: Botanischer Garten\, Telefon: +49 331 977-1952
URL:https://botg-potsdam.de/veranstaltung/pflanzen-basar/
LOCATION:Eingang Schaugewächshäuser\, Maulbeerallee 2\, 14469 Potsdam
ATTACH;FMTTYPE=image/jpeg:https://botg-potsdam.de/wp-content/uploads/2021/04/Pflanzenbasar-Foto_-scaled.jpg
END:VEVENT
BEGIN:VEVENT
DTSTART;TZID=Europe/Berlin:20260912T133000
DTEND;TZID=Europe/Berlin:20260912T150000
DTSTAMP:20260421T190303
CREATED:20250105T141833Z
LAST-MODIFIED:20260419T122817Z
UID:612-1789219800-1789225200@botg-potsdam.de
SUMMARY:Tee - Botanik\, Geschichte und Zeremonie
DESCRIPTION:Chinesischer Tee gehörte zu den wertvollsten Importgütern im Europa der frühen Neuzeit. Später kam Tee auch aus Indien\, eine Folge der britischen Kolonialpolitik. \nBei der Führung im Botanischen Garten erläutert Steffen Ramm Botanik\, Herkunft und Kolonialgeschichte der Teepflanze und zeigt weitere aromatische Aufgusskräuter.\nDer anschließende Spaziergang zu den Neuen Kammern von Sanssouci steigert die Vorfreude auf eine Teezeremonie an einer königlichen Tafel in der prunkvollen Blauen Galerie\,\nmit hochwertigem Porzellan der KPM\, erlesenen Teesorten von P&T und köstlichen Pasteten. Der Historiker Dr. Bernd Maether vom Verein Königliche Tafelfreuden e. V. erzählt Geschichten um den Tee. \nBarocke Hintergrundmusik rundet die Zeremonie ab. \nTreffpunkt: Botanischer Garten und Neue Kammern Sanssouci\, Maulbeerallee\, 14469 Potsdam \nTickets: bei der SPSG erhältlich \nEine Veranstaltung in Kooperation mit der Stiftung Preußische Schlösser und Gärten.
URL:https://botg-potsdam.de/veranstaltung/tee-botanik-geschichte-und-zeremonie/
LOCATION:Eingang Schaugewächshäuser\, Maulbeerallee 2\, 14469 Potsdam
ATTACH;FMTTYPE=image/jpeg:https://botg-potsdam.de/wp-content/uploads/2025/01/Tee-AdobeStock_449654950_mnimage-scaled.jpg
ORGANIZER;CN="Botanischer Garten der Universit%C3%A4t Potsdam":MAILTO:botanischer-garten@uni-potsdam.de
END:VEVENT
BEGIN:VEVENT
DTSTART;TZID=Europe/Berlin:20260918T190000
DTEND;TZID=Europe/Berlin:20260918T210000
DTSTAMP:20260421T190303
CREATED:20250105T135900Z
LAST-MODIFIED:20260419T123306Z
UID:599-1789758000-1789765200@botg-potsdam.de
SUMMARY:Autorinnen entdecken zwischen Pfeiffröschen und Palmen
DESCRIPTION:Im Rahmen unserer Führung „Autorinnen entdecken zwischen Pfeiffröschen und Palmen“ laden wir Sie ein gemeinsam die abendlich-nächtlichen Gewächshäuser zu erkunden und in diesem besonderen Ambiente die Texte bekannter und weniger bekannter Autorinnen zu entdecken. Es erwartet Sie eine Reise über verschiedene Kontinente und Epochen an deren Ende Sie ein erfrischendes Getränk genießen können. \nOrt: Schaugewächshäuser\, Maulbeerallee 2\, 14469 Potsdam\nEintritt: 12 € Vorverkauf ab 1. Juli\,  15 € Tageskasse\, mit Verkostung\nKontakt:  Botanischer Garten\, Telefon: +49 331 977-1952/1962
URL:https://botg-potsdam.de/veranstaltung/pflanzensprechstunde/
LOCATION:Eingang Schaugewächshäuser\, Maulbeerallee 2\, 14469 Potsdam
ATTACH;FMTTYPE=image/jpeg:https://botg-potsdam.de/wp-content/uploads/2025/01/TagebuchHumboldt-scaled.jpg
END:VEVENT
BEGIN:VEVENT
DTSTART;TZID=Europe/Berlin:20260923T170000
DTEND;TZID=Europe/Berlin:20260923T183000
DTSTAMP:20260421T190303
CREATED:20250105T135331Z
LAST-MODIFIED:20260419T123042Z
UID:597-1790182800-1790188200@botg-potsdam.de
SUMMARY:Der Steppengarten im Berliner Tiergarten
DESCRIPTION:Führung mit Dr. Gabriele Holst \nBerlin\, Tiergartenstraße 4\, Bushalt „Philharmonie“ Linie 200
URL:https://botg-potsdam.de/veranstaltung/besuch-des-bunten-springkrauts-im-berliner-tiergarten/
ATTACH;FMTTYPE=image/jpeg:https://botg-potsdam.de/wp-content/uploads/2025/01/csm_Scabiosa_graminifolia_6d6b2b1935-scaled.jpg
END:VEVENT
BEGIN:VEVENT
DTSTART;TZID=Europe/Berlin:20260925T180000
DTEND;TZID=Europe/Berlin:20260925T200000
DTSTAMP:20260421T190303
CREATED:20250105T145708Z
LAST-MODIFIED:20260419T122140Z
UID:632-1790359200-1790366400@botg-potsdam.de
SUMMARY:Der Mörder ist immer der Gärtner?! Escapespiel im Botanischen Garten
DESCRIPTION:Aktionsprogramm für Erwachsene \nDer Mörder ist immer der Gärtner?! Vielleicht… Gärtner haben wir hier ja genug\, doch war es auch einer von ihnen? Ein unterhaltsames Escapespiel im Botanischen Garten Potsdam mit Steffen Ramm… und Gärtnern! \nOrt: Schaugewächshäuser\, Maulbeerallee 2\, 14469 Potsdam\nEintritt: 20 € Vorverkauf\, 22 € Tageskasse\nKontakt:  Botanischer Garten\, Telefon: +49 331 977-1952/1962
URL:https://botg-potsdam.de/veranstaltung/der-moerder-ist-immer-der-gaertner/
LOCATION:Schaugewächshäuser
ATTACH;FMTTYPE=image/jpeg:https://botg-potsdam.de/wp-content/uploads/2025/01/Escape-scaled.jpg
END:VEVENT
BEGIN:VEVENT
DTSTART;TZID=Europe/Berlin:20260926T100000
DTEND;TZID=Europe/Berlin:20260926T140000
DTSTAMP:20260421T190303
CREATED:20250105T154447Z
LAST-MODIFIED:20260419T121956Z
UID:634-1790416800-1790431200@botg-potsdam.de
SUMMARY:Ein Feuerwerk von Farben\, Früchten und Blüten
DESCRIPTION:Herbstlicher Floristikworkshop – 10 bis 12 Uhr und 14 bis 16 Uhr \nDuftende Blumen und reife Früchte\, farbige Blätter und bizarre Zweige bilden das Material\, aus dem Stefanie Liedtke herbstliche Sträuße und Gestecke arrangiert. In einem Workshop gibt die Floristin fachliche Anleitung und hilft dabei\, ganz eigene Herbstdekorationen zu gestalten. Das Pflanzenmaterial wird zur Verfügung gestellt. Bitte Gartenschere und Messer mitbringen! \nOrt: Schaugewächshäuser\, Maulbeerallee 2\, 14469 Potsdam\nEintritt: 4 €\, ermäßigt 2 €\, Mitglieder des Freundeskreises frei\nKontakt:  Botanischer Garten\, Telefon: +49 331 977-1952/1962\nTeilnahmekosten: 28 € Materialpauschale pro Strauß\, Kartenvorverkauf ab 1. Juli
URL:https://botg-potsdam.de/veranstaltung/ein-feuerwerk-von-farben-fruechten-und-blueten/
LOCATION:Schaugewächshäuser
ATTACH;FMTTYPE=image/jpeg:https://botg-potsdam.de/wp-content/uploads/2025/01/Floristik-scaled.jpg
END:VEVENT
BEGIN:VEVENT
DTSTART;TZID=Europe/Berlin:20260927T140000
DTEND;TZID=Europe/Berlin:20260927T150000
DTSTAMP:20260421T190303
CREATED:20250111T161412Z
LAST-MODIFIED:20260419T121757Z
UID:641-1790517600-1790521200@botg-potsdam.de
SUMMARY:Kakao und Schokolade
DESCRIPTION:Sonntag\, 27. September\, 14 Uhr \nAktionsprogramm für Kinder ab 4 Jahren mit Begleitung mit Anmeldung \nKakao gehört von jeher zu den Lieblingsgetränken vieler Kinder. Aber woraus wird er eigentlich gemacht? In den Schaugewächshäusern des Botanischen Gartens besuchen die Kinder die Pflanzen\, die das leckere Aroma spenden. Sie erfahren Interessantes rund um das süße Thema Schokolade und stellen sogar selbst etwas von der braunen Köstlichkeit her. \nOrt: Schaugewächshäuser\, Maulbeerallee 2\, 14469 Potsdam\nEintritt: 6 €\nAnmeldung: Botanischer Garten\, Telefon: +49 331 977 1952
URL:https://botg-potsdam.de/veranstaltung/kakao-und-schokolade/
LOCATION:Schaugewächshäuser
ATTACH;FMTTYPE=image/jpeg:https://botg-potsdam.de/wp-content/uploads/2025/01/kakaofrucht.jpg
ORGANIZER;CN="Botanischer Garten der Universit%C3%A4t Potsdam":MAILTO:botanischer-garten@uni-potsdam.de
END:VEVENT
BEGIN:VEVENT
DTSTART;TZID=Europe/Berlin:20260928T093000
DTEND;TZID=Europe/Berlin:20270104T160000
DTSTAMP:20260421T190303
CREATED:20250105T135217Z
LAST-MODIFIED:20260419T123730Z
UID:595-1790587800-1799078400@botg-potsdam.de
SUMMARY:Die kleine Ausstellung
DESCRIPTION:Einzigartige Scherenschnitte in echten Laubblättern von Mike Wessel \nInspiriert von japanischen Miniaturschnitzkünstlern erschafft Mike Wessel selbst filigrane Kunstwerke aus Blättern. Der Potsdamer schneidet mit einem chirurgischen Skalpell in gepresste\, leicht angetrocknete Laubblätter Tiere\, Figuren oder kleine Szenen. Dabei entwickelt der Blattschneidkünstler seine eigene Technik\, denn die gepressten Blätter dürfen nicht zu frisch aber auch nicht zu trocken sein. „Blätter mit Scherenschnitten in grüne Bilder zu verwandeln fasziniert und beruhigt mich zugleich“\, erzählt Wessel\, der als Bühnentechniker an der Komischen Oper arbeitet. Er sammelt seine Blätter in der Natur und fragt auch manchmal im Botanischen Garten nach ganz besonderem Laub – denn nicht jedes Blatt eignet sich für seine Blattschnitzereien. Einige seiner Werke können Sie ab dem 28. September in unserer Aquarienhalle bestaunen. \nOrt: Schaugewächshäuser\, Maulbeerallee 2\, 14469 Potsdam\nEintritt: 4 €\, ermäßigt 2 €\, Mitglieder des Freundeskreises frei\nKontakt:  Botanischer Garten\, Telefon: +49 331 977-1952/1962
URL:https://botg-potsdam.de/veranstaltung/fotoausstellung-botanischer-garten/
LOCATION:Schaugewächshäuser
ATTACH;FMTTYPE=image/png:https://botg-potsdam.de/wp-content/uploads/2025/01/MikeWessel_montage-scaled.png
ORGANIZER;CN="Botanischer Garten der Universit%C3%A4t Potsdam":MAILTO:botanischer-garten@uni-potsdam.de
END:VEVENT
END:VCALENDAR