BEGIN:VCALENDAR
VERSION:2.0
PRODID:-//Freundeskreis des Botanischen Gartens der Universität Potsdam e.V. - ECPv6.15.20//NONSGML v1.0//EN
CALSCALE:GREGORIAN
METHOD:PUBLISH
X-ORIGINAL-URL:https://botg-potsdam.de
X-WR-CALDESC:Veranstaltungen für Freundeskreis des Botanischen Gartens der Universität Potsdam e.V.
REFRESH-INTERVAL;VALUE=DURATION:PT1H
X-Robots-Tag:noindex
X-PUBLISHED-TTL:PT1H
BEGIN:VTIMEZONE
TZID:Europe/Berlin
BEGIN:DAYLIGHT
TZOFFSETFROM:+0100
TZOFFSETTO:+0200
TZNAME:CEST
DTSTART:20250330T010000
END:DAYLIGHT
BEGIN:STANDARD
TZOFFSETFROM:+0200
TZOFFSETTO:+0100
TZNAME:CET
DTSTART:20251026T010000
END:STANDARD
BEGIN:DAYLIGHT
TZOFFSETFROM:+0100
TZOFFSETTO:+0200
TZNAME:CEST
DTSTART:20260329T010000
END:DAYLIGHT
BEGIN:STANDARD
TZOFFSETFROM:+0200
TZOFFSETTO:+0100
TZNAME:CET
DTSTART:20261025T010000
END:STANDARD
BEGIN:DAYLIGHT
TZOFFSETFROM:+0100
TZOFFSETTO:+0200
TZNAME:CEST
DTSTART:20270328T010000
END:DAYLIGHT
BEGIN:STANDARD
TZOFFSETFROM:+0200
TZOFFSETTO:+0100
TZNAME:CET
DTSTART:20271031T010000
END:STANDARD
END:VTIMEZONE
BEGIN:VEVENT
DTSTART;TZID=Europe/Berlin:20260529T190000
DTEND;TZID=Europe/Berlin:20260529T213000
DTSTAMP:20260421T162924
CREATED:20260419T113128Z
LAST-MODIFIED:20260419T113128Z
UID:738-1780081200-1780090200@botg-potsdam.de
SUMMARY:Shakespeare im Garten
DESCRIPTION:Führung mit Dana Kamin und Juliane Zickuhr \nWir laden Sie herzlich zu unserer Veranstaltung „Shakespeare im Garten“ ein. Entdecken Sie die faszinierenden Verbindungen zwischen den wichtigen Werken von William Shakespeare und der Botanik. Tauchen Sie ein in die Welt der Blumen\, Bäume und Pflanzen\, die in Shakespeares Theaterstücken eine zentrale Rolle spielen und genießen Sie zum Abschluss der Führung ein passendes Getränk. \nOrt: Schaugewächshäuser\, Maulbeerallee 2\, 14469 Potsdam\nEintritt: 12 € Vorverkauf\, 15 € Tageskasse\, mit Verkostung
URL:https://botg-potsdam.de/veranstaltung/shakespeare-im-garten/
LOCATION:Eingang Schaugewächshäuser\, Maulbeerallee 2\, 14469 Potsdam
ATTACH;FMTTYPE=image/jpeg:https://botg-potsdam.de/wp-content/uploads/2023/03/Dana_Jule-2-scaled.jpg
END:VEVENT
BEGIN:VEVENT
DTSTART;TZID=Europe/Berlin:20260531T140000
DTEND;TZID=Europe/Berlin:20260531T150000
DTSTAMP:20260421T162924
CREATED:20260419T113433Z
LAST-MODIFIED:20260419T113519Z
UID:740-1780236000-1780239600@botg-potsdam.de
SUMMARY:Rekorde und Merkwürdigkeiten aus der Pflanzenwelt
DESCRIPTION:Tauch ein in die spannende Welt der Pflanzen! Entdecke riesige Bambusse\, gigantische Mammutbäume und sogar Pflanzen\, die fleischfressend sind! Erlebe die coolen Geheimnisse wie den Lotuseffekt und lerne die verrücktesten Rekorde der Natur kennen. Ein Abenteuer voller Überraschungen für alle Entdecker ab 8 Jahren! \nOrt: Schaugewächshäuser\, Maulbeerallee 2\, 14469 Potsdam\nEintritt: 6 €\nKontakt: Anmeldungen Botanischer Garten\, Telefon: +49 331 977-1952/1962
URL:https://botg-potsdam.de/veranstaltung/rekorde-und-merkwuerdigkeiten-aus-der-pflanzenwelt-2/
LOCATION:Eingang Schaugewächshäuser\, Maulbeerallee 2\, 14469 Potsdam
ATTACH;FMTTYPE=image/jpeg:https://botg-potsdam.de/wp-content/uploads/2023/03/Steffen-Ramm_Foto-Botanischer-Garten.jpg
END:VEVENT
END:VCALENDAR