BEGIN:VCALENDAR
VERSION:2.0
PRODID:-//Freundeskreis des Botanischen Gartens der Universität Potsdam e.V. - ECPv6.15.20//NONSGML v1.0//EN
CALSCALE:GREGORIAN
METHOD:PUBLISH
X-WR-CALNAME:Freundeskreis des Botanischen Gartens der Universität Potsdam e.V.
X-ORIGINAL-URL:https://botg-potsdam.de
X-WR-CALDESC:Veranstaltungen für Freundeskreis des Botanischen Gartens der Universität Potsdam e.V.
REFRESH-INTERVAL;VALUE=DURATION:PT1H
X-Robots-Tag:noindex
X-PUBLISHED-TTL:PT1H
BEGIN:VTIMEZONE
TZID:Europe/Berlin
BEGIN:DAYLIGHT
TZOFFSETFROM:+0100
TZOFFSETTO:+0200
TZNAME:CEST
DTSTART:20250330T010000
END:DAYLIGHT
BEGIN:STANDARD
TZOFFSETFROM:+0200
TZOFFSETTO:+0100
TZNAME:CET
DTSTART:20251026T010000
END:STANDARD
BEGIN:DAYLIGHT
TZOFFSETFROM:+0100
TZOFFSETTO:+0200
TZNAME:CEST
DTSTART:20260329T010000
END:DAYLIGHT
BEGIN:STANDARD
TZOFFSETFROM:+0200
TZOFFSETTO:+0100
TZNAME:CET
DTSTART:20261025T010000
END:STANDARD
BEGIN:DAYLIGHT
TZOFFSETFROM:+0100
TZOFFSETTO:+0200
TZNAME:CEST
DTSTART:20270328T010000
END:DAYLIGHT
BEGIN:STANDARD
TZOFFSETFROM:+0200
TZOFFSETTO:+0100
TZNAME:CET
DTSTART:20271031T010000
END:STANDARD
END:VTIMEZONE
BEGIN:VEVENT
DTSTART;VALUE=DATE:20260130
DTEND;VALUE=DATE:20260202
DTSTAMP:20260421T210429
CREATED:20240114T115024Z
LAST-MODIFIED:20260113T104637Z
UID:460-1769731200-1769990399@botg-potsdam.de
SUMMARY:Faszination Orchideen
DESCRIPTION:Ausstellung mit Verkauf und Beratung \nVon tiefem Blau über zartes Violett bis zu strahlendem Weiß reicht die Farbpalette der Orchideen. Die Ausstellung blühender Wild- und Zuchtformen vermittelt interessantes Hintergrundwissen. Orchideenfreunde können sich nicht nur inspirieren und fachlich beraten lassen\, sondern auch diverse Exemplare in allen Größen und Farben käuflich erwerben. \nOrt: Schaugewächshäuser\, Maulbeerallee 2\, 14469 Potsdam\nEintritt: 2 €\, ermäßigt 1 €\, Mitglieder des Freundeskreises frei\nKontakt: Botanischer Garten\, Telefon: +49 331 977-1952
URL:https://botg-potsdam.de/veranstaltung/faszination-orchideen-2/
LOCATION:Schaugewächshäuser
ATTACH;FMTTYPE=image/jpeg:https://botg-potsdam.de/wp-content/uploads/2024/01/Orchideen.jpg
ORGANIZER;CN="Botanischer Garten der Universit%C3%A4t Potsdam":MAILTO:botanischer-garten@uni-potsdam.de
END:VEVENT
BEGIN:VEVENT
DTSTART;TZID=Europe/Berlin:20260211T170000
DTEND;TZID=Europe/Berlin:20260211T190000
DTSTAMP:20260421T210429
CREATED:20230112T072353Z
LAST-MODIFIED:20260113T105116Z
UID:394-1770829200-1770836400@botg-potsdam.de
SUMMARY:Mitgliederversammlung Freundeskreis des Botanischen Gartens
DESCRIPTION:Ort: Großer Hörsaal Botanik\, Maulbeerallee 2a\, 14469 Potsdam \nanschließend Kurzvortrag Namibia von Anke Mehrfort
URL:https://botg-potsdam.de/veranstaltung/mitgliederversammlung/
LOCATION:Großer Hörsaal Botanik\, Maulbeerallee 2a\, 14469 Potsdam
ATTACH;FMTTYPE=image/jpeg:https://botg-potsdam.de/wp-content/uploads/2026/01/IMG_20250218_104301_HDR-scaled.jpg
END:VEVENT
BEGIN:VEVENT
DTSTART;TZID=Europe/Berlin:20260222T140000
DTEND;TZID=Europe/Berlin:20260222T150000
DTSTAMP:20260421T210429
CREATED:20221219T150905Z
LAST-MODIFIED:20260219T062048Z
UID:365-1771768800-1771772400@botg-potsdam.de
SUMMARY:In einem Land vor unserer Zeit
DESCRIPTION:Aktionsprogramm mit Steffen Ramm für Kinder ab 6 Jahren und Begleitung mit Anmeldung\n \nWie sah die Welt zu Lebzeiten der Dinosaurier aus? Auf einer Zeitreise werden die Kinder selbst zu Dreihorn\, Flugsaurier oder Langhals und durchstreifen die Farnwälder von einst. Gemeinsam mit dem Gartenpädagogen Steffen Ramm erkunden sie die urzeitliche Tier- und Pflanzenwelt und stellen fossile Abdrücke her. \nDiese Veranstaltung ist schon ausgebucht!
URL:https://botg-potsdam.de/veranstaltung/in-einem-land-vor-unserer-zeit/
LOCATION:Schaugewächshäuser
CATEGORIES:Aktionsprogramm für Erwachsene,Aktionsprogramm für Kinder,Ausstellung
ATTACH;FMTTYPE=image/jpeg:https://botg-potsdam.de/wp-content/uploads/2022/12/dino1.jpg
ORGANIZER;CN="Botanischer Garten der Universit%C3%A4t Potsdam":MAILTO:botanischer-garten@uni-potsdam.de
END:VEVENT
BEGIN:VEVENT
DTSTART;TZID=Europe/Berlin:20260223T093000
DTEND;TZID=Europe/Berlin:20260308T160000
DTSTAMP:20260421T210429
CREATED:20221219T151229Z
LAST-MODIFIED:20260113T110126Z
UID:368-1771839000-1772985600@botg-potsdam.de
SUMMARY:Blütenpracht der Azaleen und Kamelien
DESCRIPTION:Ausstellung \nMit der Blüte der Azaleen läutet der Botanische Garten den Frühling ein. Zusammen mit Kamelien und anderen Frühblühern zeigen diese auch als Zimmerblumen beliebten Pflanzen ihre Blütenpracht in den Schaugewächshäusern an der Maulbeerallee. Besonders eindrucksvoll sind zahlreiche große Exemplare alter Sorten in voller Blüte. \nEintritt: 2 €\, ermäßigt 1 €\, Mitglieder des Freundeskreises frei
URL:https://botg-potsdam.de/veranstaltung/bluetenpracht-der-azaleen-und-kamelien/
LOCATION:Schaugewächshäuser
CATEGORIES:Ausstellung
ATTACH;FMTTYPE=image/jpeg:https://botg-potsdam.de/wp-content/uploads/2022/12/KamelienausstellungNeeltje-Schilling-scaled.jpg
ORGANIZER;CN="Botanischer Garten der Universit%C3%A4t Potsdam":MAILTO:botanischer-garten@uni-potsdam.de
END:VEVENT
BEGIN:VEVENT
DTSTART;TZID=Europe/Berlin:20260227T180000
DTEND;TZID=Europe/Berlin:20260227T193000
DTSTAMP:20260421T210429
CREATED:20260113T110708Z
LAST-MODIFIED:20260113T110708Z
UID:706-1772215200-1772220600@botg-potsdam.de
SUMMARY:Expedition in den nächtlichen Regenwald
DESCRIPTION:Taschenlampenwanderung für Erwachsene mit Anmeldung. \nSchon tagsüber ist es im Regenwald düster\, denn er trägt ein dichtes Blätterdach. Abends treten noch die Geräusche der Tiere hervor\, so auch im Botanischen Garten. Mit Taschenlampen lassen sich die emporrankenden Lianen und Aufsitzerpflanzen\, Pfeiffrösche und Insekten\, Farne und Fleischfresser beobachten\, letztere sogar in Aktion. Gartenpädagoge Steffen Ramm lässt die zahlreichen Merkwürdigkeiten in einem ganz besonderen Licht erscheinen. \nTaschenlampen bitte mitbringen! \nEintritt: 6 €\, ermäßigt 3 €\, Freundeskreis frei\nKontakt:  Telefon: +49 331 977-1952
URL:https://botg-potsdam.de/veranstaltung/expedition-in-den-naechtlichen-regenwald/
LOCATION:Schaugewächshäuser
ATTACH;FMTTYPE=image/jpeg:https://botg-potsdam.de/wp-content/uploads/2026/01/AdobeStock_1218838378-scaled.jpeg
END:VEVENT
END:VCALENDAR