BEGIN:VCALENDAR
VERSION:2.0
PRODID:-//Freundeskreis des Botanischen Gartens der Universität Potsdam e.V. - ECPv6.15.20//NONSGML v1.0//EN
CALSCALE:GREGORIAN
METHOD:PUBLISH
X-ORIGINAL-URL:https://botg-potsdam.de
X-WR-CALDESC:Veranstaltungen für Freundeskreis des Botanischen Gartens der Universität Potsdam e.V.
REFRESH-INTERVAL;VALUE=DURATION:PT1H
X-Robots-Tag:noindex
X-PUBLISHED-TTL:PT1H
BEGIN:VTIMEZONE
TZID:Europe/Berlin
BEGIN:DAYLIGHT
TZOFFSETFROM:+0100
TZOFFSETTO:+0200
TZNAME:CEST
DTSTART:20250330T010000
END:DAYLIGHT
BEGIN:STANDARD
TZOFFSETFROM:+0200
TZOFFSETTO:+0100
TZNAME:CET
DTSTART:20251026T010000
END:STANDARD
BEGIN:DAYLIGHT
TZOFFSETFROM:+0100
TZOFFSETTO:+0200
TZNAME:CEST
DTSTART:20260329T010000
END:DAYLIGHT
BEGIN:STANDARD
TZOFFSETFROM:+0200
TZOFFSETTO:+0100
TZNAME:CET
DTSTART:20261025T010000
END:STANDARD
BEGIN:DAYLIGHT
TZOFFSETFROM:+0100
TZOFFSETTO:+0200
TZNAME:CEST
DTSTART:20270328T010000
END:DAYLIGHT
BEGIN:STANDARD
TZOFFSETFROM:+0200
TZOFFSETTO:+0100
TZNAME:CET
DTSTART:20271031T010000
END:STANDARD
END:VTIMEZONE
BEGIN:VEVENT
DTSTART;TZID=Europe/Berlin:20260629T200000
DTEND;TZID=Europe/Berlin:20260629T200000
DTSTAMP:20260424T124538
CREATED:20230325T172044Z
LAST-MODIFIED:20260419T120727Z
UID:439-1782763200-1782763200@botg-potsdam.de
SUMMARY:Die Königin der Nacht blüht
DESCRIPTION:Termin wird kurzfristig bekannt gegeben!\nNachtöffnung mit Cocktails \nDie „Königin der Nacht“ ist ein Kaktus aus Mittelamerika. Seine riesigen\, duftenden Blüten öffnen sich spät abends und nur für eine Nacht. Dieses Ereignis ist immer erst am Vormittag desselben Tages vorhersagbar und wird deshalb kurzfristig bekanntgegeben. Besucher können an diesem besonderen Abend auch die anderen Gewächshäuser des Botanischen Gartens besichtigen. \nOrt: Schaugewächshäuser\, Maulbeerallee 2\, 14469 Potsdam\nEintritt: 2 €\, ermäßigt 1 €\, Mitglieder des Freundeskreises frei\nKontakt: Botanischer Garten\, Telefon: +49 331 977-1952\n 
URL:https://botg-potsdam.de/veranstaltung/die-koenigin-der-nacht-blueht/
LOCATION:Schaugewächshäuser
ATTACH;FMTTYPE=image/jpeg:https://botg-potsdam.de/wp-content/uploads/2020/02/P1130461-scaled.jpg
ORGANIZER;CN="Botanischer Garten der Universit%C3%A4t Potsdam":MAILTO:botanischer-garten@uni-potsdam.de
END:VEVENT
END:VCALENDAR