BEGIN:VCALENDAR
VERSION:2.0
PRODID:-//Freundeskreis des Botanischen Gartens der Universität Potsdam e.V. - ECPv6.15.20//NONSGML v1.0//EN
CALSCALE:GREGORIAN
METHOD:PUBLISH
X-ORIGINAL-URL:https://botg-potsdam.de
X-WR-CALDESC:Veranstaltungen für Freundeskreis des Botanischen Gartens der Universität Potsdam e.V.
REFRESH-INTERVAL;VALUE=DURATION:PT1H
X-Robots-Tag:noindex
X-PUBLISHED-TTL:PT1H
BEGIN:VTIMEZONE
TZID:Europe/Berlin
BEGIN:DAYLIGHT
TZOFFSETFROM:+0100
TZOFFSETTO:+0200
TZNAME:CEST
DTSTART:20250330T010000
END:DAYLIGHT
BEGIN:STANDARD
TZOFFSETFROM:+0200
TZOFFSETTO:+0100
TZNAME:CET
DTSTART:20251026T010000
END:STANDARD
BEGIN:DAYLIGHT
TZOFFSETFROM:+0100
TZOFFSETTO:+0200
TZNAME:CEST
DTSTART:20260329T010000
END:DAYLIGHT
BEGIN:STANDARD
TZOFFSETFROM:+0200
TZOFFSETTO:+0100
TZNAME:CET
DTSTART:20261025T010000
END:STANDARD
BEGIN:DAYLIGHT
TZOFFSETFROM:+0100
TZOFFSETTO:+0200
TZNAME:CEST
DTSTART:20270328T010000
END:DAYLIGHT
BEGIN:STANDARD
TZOFFSETFROM:+0200
TZOFFSETTO:+0100
TZNAME:CET
DTSTART:20271031T010000
END:STANDARD
END:VTIMEZONE
BEGIN:VEVENT
DTSTART;TZID=Europe/Berlin:20260912T100000
DTEND;TZID=Europe/Berlin:20260912T150000
DTSTAMP:20260421T202229
CREATED:20230120T102636Z
LAST-MODIFIED:20260419T122638Z
UID:407-1789207200-1789225200@botg-potsdam.de
SUMMARY:Pflanzenbasar
DESCRIPTION:Der Freundeskreis des Botanischen Gartens führt auch in diesem Frühjahr wieder seinen traditionellen Pflanzenbasar durch. Dort kann man eine Vielzahl an Stauden\, Gehölzen\, Gräsern\, Farnen\, Topfpflanzen\, Kakteen und Sukkulenten sowie Sämereien für Innenräume und Außengelände preisgünstig erwerben\, sowohl Raritäten als auch bewährte Arten und Sorten. Der Erlös fließt der Erhaltung und dem weiteren Ausbau des Botanischen Gartens zu. \nErfahrungsgemäß empfiehlt es sich\, pünktlich zur Eröffnung anwesend zu sein\, um unter den besten Stücken auswählen zu können. \nParkplätze sind in begrenztem Umfang vorhanden. \nOrt: Schaugewächshäuser\, Maulbeerallee 2\, 14469 Potsdam\nEintritt: 4 €\, ermäßigt 2 €\, Mitglieder des Freundeskreises frei\nKontakt: Botanischer Garten\, Telefon: +49 331 977-1952
URL:https://botg-potsdam.de/veranstaltung/pflanzen-basar/
LOCATION:Eingang Schaugewächshäuser\, Maulbeerallee 2\, 14469 Potsdam
ATTACH;FMTTYPE=image/jpeg:https://botg-potsdam.de/wp-content/uploads/2021/04/Pflanzenbasar-Foto_-scaled.jpg
END:VEVENT
BEGIN:VEVENT
DTSTART;TZID=Europe/Berlin:20260912T133000
DTEND;TZID=Europe/Berlin:20260912T150000
DTSTAMP:20260421T202229
CREATED:20250105T141833Z
LAST-MODIFIED:20260419T122817Z
UID:612-1789219800-1789225200@botg-potsdam.de
SUMMARY:Tee - Botanik\, Geschichte und Zeremonie
DESCRIPTION:Chinesischer Tee gehörte zu den wertvollsten Importgütern im Europa der frühen Neuzeit. Später kam Tee auch aus Indien\, eine Folge der britischen Kolonialpolitik. \nBei der Führung im Botanischen Garten erläutert Steffen Ramm Botanik\, Herkunft und Kolonialgeschichte der Teepflanze und zeigt weitere aromatische Aufgusskräuter.\nDer anschließende Spaziergang zu den Neuen Kammern von Sanssouci steigert die Vorfreude auf eine Teezeremonie an einer königlichen Tafel in der prunkvollen Blauen Galerie\,\nmit hochwertigem Porzellan der KPM\, erlesenen Teesorten von P&T und köstlichen Pasteten. Der Historiker Dr. Bernd Maether vom Verein Königliche Tafelfreuden e. V. erzählt Geschichten um den Tee. \nBarocke Hintergrundmusik rundet die Zeremonie ab. \nTreffpunkt: Botanischer Garten und Neue Kammern Sanssouci\, Maulbeerallee\, 14469 Potsdam \nTickets: bei der SPSG erhältlich \nEine Veranstaltung in Kooperation mit der Stiftung Preußische Schlösser und Gärten.
URL:https://botg-potsdam.de/veranstaltung/tee-botanik-geschichte-und-zeremonie/
LOCATION:Eingang Schaugewächshäuser\, Maulbeerallee 2\, 14469 Potsdam
ATTACH;FMTTYPE=image/jpeg:https://botg-potsdam.de/wp-content/uploads/2025/01/Tee-AdobeStock_449654950_mnimage-scaled.jpg
ORGANIZER;CN="Botanischer Garten der Universit%C3%A4t Potsdam":MAILTO:botanischer-garten@uni-potsdam.de
END:VEVENT
END:VCALENDAR