BEGIN:VCALENDAR
VERSION:2.0
PRODID:-//Freundeskreis des Botanischen Gartens der Universität Potsdam e.V. - ECPv6.15.20//NONSGML v1.0//EN
CALSCALE:GREGORIAN
METHOD:PUBLISH
X-ORIGINAL-URL:https://botg-potsdam.de
X-WR-CALDESC:Veranstaltungen für Freundeskreis des Botanischen Gartens der Universität Potsdam e.V.
REFRESH-INTERVAL;VALUE=DURATION:PT1H
X-Robots-Tag:noindex
X-PUBLISHED-TTL:PT1H
BEGIN:VTIMEZONE
TZID:Europe/Berlin
BEGIN:DAYLIGHT
TZOFFSETFROM:+0100
TZOFFSETTO:+0200
TZNAME:CEST
DTSTART:20250330T010000
END:DAYLIGHT
BEGIN:STANDARD
TZOFFSETFROM:+0200
TZOFFSETTO:+0100
TZNAME:CET
DTSTART:20251026T010000
END:STANDARD
BEGIN:DAYLIGHT
TZOFFSETFROM:+0100
TZOFFSETTO:+0200
TZNAME:CEST
DTSTART:20260329T010000
END:DAYLIGHT
BEGIN:STANDARD
TZOFFSETFROM:+0200
TZOFFSETTO:+0100
TZNAME:CET
DTSTART:20261025T010000
END:STANDARD
BEGIN:DAYLIGHT
TZOFFSETFROM:+0100
TZOFFSETTO:+0200
TZNAME:CEST
DTSTART:20270328T010000
END:DAYLIGHT
BEGIN:STANDARD
TZOFFSETFROM:+0200
TZOFFSETTO:+0100
TZNAME:CET
DTSTART:20271031T010000
END:STANDARD
END:VTIMEZONE
BEGIN:VEVENT
DTSTART;TZID=Europe/Berlin:20260712T150000
DTEND;TZID=Europe/Berlin:20260712T163000
DTSTAMP:20260421T174508
CREATED:20250105T141018Z
LAST-MODIFIED:20260419T120516Z
UID:607-1783868400-1783873800@botg-potsdam.de
SUMMARY:Phänologie - Pflanzen zeigen\, wie sich das Klima ändert
DESCRIPTION:Gartenführung mit der Direktorin des Botanischen Gartens Prof. Dr. Anja Linstädter \nDer Austrieb und die Blütezeit beginnen bei fast allen Pflanzen in Deutschland seit Jahrzehnten immer früher. Prof. Dr. Anja Linstädter\, Direktorin des Botanischen Gartens\, erklärt bei einer Führung\, wie Pflanzen Klimaänderungen anzeigen. \nOrt: Schaugewächshäuser\, Maulbeerallee 2\, 14469 Potsdam\nEintritt: 6 €\, ermäßigt 3 €\, Mitglieder des Freundeskreises frei\nKontakt: Anmeldungen Botanischer Garten\, Telefon: +49 331 977-1952/1962
URL:https://botg-potsdam.de/veranstaltung/phaenologie-pflanzen-zeigen-wie-sich-das-klima-aendert/
LOCATION:Eingang Schaugewächshäuser\, Maulbeerallee 2\, 14469 Potsdam
ATTACH;FMTTYPE=image/jpeg:https://botg-potsdam.de/wp-content/uploads/2025/01/Linstaedter_TobiasHopfgarten-scaled.jpg
END:VEVENT
END:VCALENDAR