BEGIN:VCALENDAR
VERSION:2.0
PRODID:-//Freundeskreis des Botanischen Gartens der Universität Potsdam e.V. - ECPv6.15.20//NONSGML v1.0//EN
CALSCALE:GREGORIAN
METHOD:PUBLISH
X-ORIGINAL-URL:https://botg-potsdam.de
X-WR-CALDESC:Veranstaltungen für Freundeskreis des Botanischen Gartens der Universität Potsdam e.V.
REFRESH-INTERVAL;VALUE=DURATION:PT1H
X-Robots-Tag:noindex
X-PUBLISHED-TTL:PT1H
BEGIN:VTIMEZONE
TZID:Europe/Berlin
BEGIN:DAYLIGHT
TZOFFSETFROM:+0100
TZOFFSETTO:+0200
TZNAME:CEST
DTSTART:20250330T010000
END:DAYLIGHT
BEGIN:STANDARD
TZOFFSETFROM:+0200
TZOFFSETTO:+0100
TZNAME:CET
DTSTART:20251026T010000
END:STANDARD
BEGIN:DAYLIGHT
TZOFFSETFROM:+0100
TZOFFSETTO:+0200
TZNAME:CEST
DTSTART:20260329T010000
END:DAYLIGHT
BEGIN:STANDARD
TZOFFSETFROM:+0200
TZOFFSETTO:+0100
TZNAME:CET
DTSTART:20261025T010000
END:STANDARD
BEGIN:DAYLIGHT
TZOFFSETFROM:+0100
TZOFFSETTO:+0200
TZNAME:CEST
DTSTART:20270328T010000
END:DAYLIGHT
BEGIN:STANDARD
TZOFFSETFROM:+0200
TZOFFSETTO:+0100
TZNAME:CET
DTSTART:20271031T010000
END:STANDARD
END:VTIMEZONE
BEGIN:VEVENT
DTSTART;TZID=Europe/Berlin:20260710T180000
DTEND;TZID=Europe/Berlin:20260710T220000
DTSTAMP:20260421T161231
CREATED:20260419T120002Z
LAST-MODIFIED:20260419T120002Z
UID:752-1783706400-1783720800@botg-potsdam.de
SUMMARY:Gartenlust-Gartengenuss
DESCRIPTION:Freitag\, 10 Juli\, 18 – 22 Uhr \nProgramm folgt! \nOrt: Schaugewächshäuser\, Maulbeerallee 2\, 14469 Potsdam\nKontakt:  Botanischer Garten\, Telefon: +49 331 977-1952 \nEintritt: 10 € Vorverkauf\, 15 € Abendkasse\, Pflanzenpaten frei
URL:https://botg-potsdam.de/veranstaltung/gartenlust-gartengenuss-2/
LOCATION:Paradiesgarten des Botanischen Gartens\, Maulbeeralle 2\, Potsdam\, 14469\, Germany
ATTACH;FMTTYPE=image/jpeg:https://botg-potsdam.de/wp-content/uploads/2020/02/P1070390-scaled.jpg
END:VEVENT
END:VCALENDAR