BEGIN:VCALENDAR
VERSION:2.0
PRODID:-//Freundeskreis des Botanischen Gartens der Universität Potsdam e.V. - ECPv6.15.20//NONSGML v1.0//EN
CALSCALE:GREGORIAN
METHOD:PUBLISH
X-ORIGINAL-URL:https://botg-potsdam.de
X-WR-CALDESC:Veranstaltungen für Freundeskreis des Botanischen Gartens der Universität Potsdam e.V.
REFRESH-INTERVAL;VALUE=DURATION:PT1H
X-Robots-Tag:noindex
X-PUBLISHED-TTL:PT1H
BEGIN:VTIMEZONE
TZID:Europe/Berlin
BEGIN:DAYLIGHT
TZOFFSETFROM:+0100
TZOFFSETTO:+0200
TZNAME:CEST
DTSTART:20250330T010000
END:DAYLIGHT
BEGIN:STANDARD
TZOFFSETFROM:+0200
TZOFFSETTO:+0100
TZNAME:CET
DTSTART:20251026T010000
END:STANDARD
BEGIN:DAYLIGHT
TZOFFSETFROM:+0100
TZOFFSETTO:+0200
TZNAME:CEST
DTSTART:20260329T010000
END:DAYLIGHT
BEGIN:STANDARD
TZOFFSETFROM:+0200
TZOFFSETTO:+0100
TZNAME:CET
DTSTART:20261025T010000
END:STANDARD
BEGIN:DAYLIGHT
TZOFFSETFROM:+0100
TZOFFSETTO:+0200
TZNAME:CEST
DTSTART:20270328T010000
END:DAYLIGHT
BEGIN:STANDARD
TZOFFSETFROM:+0200
TZOFFSETTO:+0100
TZNAME:CET
DTSTART:20271031T010000
END:STANDARD
END:VTIMEZONE
BEGIN:VEVENT
DTSTART;TZID=Europe/Berlin:20260325T170000
DTEND;TZID=Europe/Berlin:20260325T180000
DTSTAMP:20260421T210808
CREATED:20250105T133447Z
LAST-MODIFIED:20260113T121105Z
UID:581-1774458000-1774461600@botg-potsdam.de
SUMMARY:Nicht alltägliche Gemüsearten
DESCRIPTION:Vortrag von Dr. Helga Buchter-Weisbrodt\, Geisenheim \nAnbau\, Ernte\, Verwertung\, Inhaltsstoffe; Arten wie Zuckererbse\, Gemüsefenchel\, Guter Heinrich\, Erdbeerspinat\, Topinambur\, Nachtkerze\, Artischocke\, Zuckerhut\, Zuckermais. \nEintritt: 3 €\, ermäßigt 1\,50 €\, Freundeskreis frei\nKontakt: Dr. Michael Burkart\, Telefon +49 331 977 1936\,
URL:https://botg-potsdam.de/veranstaltung/tomatenvielfalt-geniessen-sorten-pflege-nutzung/
LOCATION:Großer Hörsaal Botanik\, Maulbeerallee 2a\, 14469 Potsdam
ATTACH;FMTTYPE=image/jpeg:https://botg-potsdam.de/wp-content/uploads/2026/01/Gemuese_Suesskartoffel-scaled.jpg
END:VEVENT
END:VCALENDAR