BEGIN:VCALENDAR
VERSION:2.0
PRODID:-//Freundeskreis des Botanischen Gartens der Universität Potsdam e.V. - ECPv6.15.20//NONSGML v1.0//EN
CALSCALE:GREGORIAN
METHOD:PUBLISH
X-ORIGINAL-URL:https://botg-potsdam.de
X-WR-CALDESC:Veranstaltungen für Freundeskreis des Botanischen Gartens der Universität Potsdam e.V.
REFRESH-INTERVAL;VALUE=DURATION:PT1H
X-Robots-Tag:noindex
X-PUBLISHED-TTL:PT1H
BEGIN:VTIMEZONE
TZID:Europe/Berlin
BEGIN:DAYLIGHT
TZOFFSETFROM:+0100
TZOFFSETTO:+0200
TZNAME:CEST
DTSTART:20250330T010000
END:DAYLIGHT
BEGIN:STANDARD
TZOFFSETFROM:+0200
TZOFFSETTO:+0100
TZNAME:CET
DTSTART:20251026T010000
END:STANDARD
BEGIN:DAYLIGHT
TZOFFSETFROM:+0100
TZOFFSETTO:+0200
TZNAME:CEST
DTSTART:20260329T010000
END:DAYLIGHT
BEGIN:STANDARD
TZOFFSETFROM:+0200
TZOFFSETTO:+0100
TZNAME:CET
DTSTART:20261025T010000
END:STANDARD
BEGIN:DAYLIGHT
TZOFFSETFROM:+0100
TZOFFSETTO:+0200
TZNAME:CEST
DTSTART:20270328T010000
END:DAYLIGHT
BEGIN:STANDARD
TZOFFSETFROM:+0200
TZOFFSETTO:+0100
TZNAME:CET
DTSTART:20271031T010000
END:STANDARD
END:VTIMEZONE
BEGIN:VEVENT
DTSTART;TZID=Europe/Berlin:20260318T170000
DTEND;TZID=Europe/Berlin:20260318T180000
DTSTAMP:20260421T210732
CREATED:20250105T133625Z
LAST-MODIFIED:20260113T120724Z
UID:584-1773853200-1773856800@botg-potsdam.de
SUMMARY:Moos - der Rollrasen Brandenburgs- Ein faszinierender Blick auf unsere Kleinsten
DESCRIPTION:Führung durch den Botanischen Garten mit Dr. Romy Zibulski und Dr. Jörg Müller \nIhr Rasen besteht aus drei Grashalmen im Moos und sie haben es akzeptiert? Dann lassen sie sich von Dr. J. Müller und Dr. R. Zibulski auf einen Gartenrundgang mitnehmen und erfahren sie mehr darüber\, warum Moose fast die ganze Welt und ihren Rasen erobert haben. Was Moose für das Klima tun\, wie sie sich gegen andere Pflanzen wehren\, ihnen aber auch helfen oder warum Moose weder Mauern sprengen noch Obstbäume aussaugen können. Ein Einblick in eine kleine Welt der Extreme. \nTreffpunkt vor den Schaugewächshäusern. Verfügbare Lupen bitte mitbringen! \nEintritt: 6 €\, ermäßigt 3 €\, Freundeskreis frei\nKontakt: Botanischer Garten\, Telefon: +49 331 977-1952 \n 
URL:https://botg-potsdam.de/veranstaltung/moos-der-rollrasen-brandenburgs-ein-faszinierender-blick-auf-unsere-kleinsten/
LOCATION:Eingang Schaugewächshäuser\, Maulbeerallee 2\, 14469 Potsdam
ATTACH;FMTTYPE=image/jpeg:https://botg-potsdam.de/wp-content/uploads/2025/01/Grimmia_pulvinata.jpg
END:VEVENT
END:VCALENDAR