BEGIN:VCALENDAR
VERSION:2.0
PRODID:-//Freundeskreis des Botanischen Gartens der Universität Potsdam e.V. - ECPv6.15.20//NONSGML v1.0//EN
CALSCALE:GREGORIAN
METHOD:PUBLISH
X-ORIGINAL-URL:https://botg-potsdam.de
X-WR-CALDESC:Veranstaltungen für Freundeskreis des Botanischen Gartens der Universität Potsdam e.V.
REFRESH-INTERVAL;VALUE=DURATION:PT1H
X-Robots-Tag:noindex
X-PUBLISHED-TTL:PT1H
BEGIN:VTIMEZONE
TZID:Europe/Berlin
BEGIN:DAYLIGHT
TZOFFSETFROM:+0100
TZOFFSETTO:+0200
TZNAME:CEST
DTSTART:20250330T010000
END:DAYLIGHT
BEGIN:STANDARD
TZOFFSETFROM:+0200
TZOFFSETTO:+0100
TZNAME:CET
DTSTART:20251026T010000
END:STANDARD
BEGIN:DAYLIGHT
TZOFFSETFROM:+0100
TZOFFSETTO:+0200
TZNAME:CEST
DTSTART:20260329T010000
END:DAYLIGHT
BEGIN:STANDARD
TZOFFSETFROM:+0200
TZOFFSETTO:+0100
TZNAME:CET
DTSTART:20261025T010000
END:STANDARD
BEGIN:DAYLIGHT
TZOFFSETFROM:+0100
TZOFFSETTO:+0200
TZNAME:CEST
DTSTART:20270328T010000
END:DAYLIGHT
BEGIN:STANDARD
TZOFFSETFROM:+0200
TZOFFSETTO:+0100
TZNAME:CET
DTSTART:20271031T010000
END:STANDARD
END:VTIMEZONE
BEGIN:VEVENT
DTSTART;TZID=Europe/Berlin:20260315T140000
DTEND;TZID=Europe/Berlin:20260315T153000
DTSTAMP:20260421T210804
CREATED:20250105T142108Z
LAST-MODIFIED:20260113T111356Z
UID:616-1773583200-1773588600@botg-potsdam.de
SUMMARY:Aufgepasst - sonst schnappen sie zu!
DESCRIPTION:Aktionsprogramm mit Steffen Ramm für Kinder ab 6 und Begleitung mit Anmeldung \nWenn es um fleischfressende Pflanzen geht\, kennt die Fantasie keine Grenzen: Mit riesigen Ranken packen sie ihre Beute und stecken sie in ein mit Zähnen besetztes Blütenmaul. Gartenpädagoge Steffen Ramm weiß es besser und erklärt\, was die pflanzlichen Fleischfresser tatsächlich tun. \nEr zeigt\, wie sie sich ernähren und mit welchen Tricks sie Insekten fangen. Ein bekanntes Beispiel ist die Venusfliegenfalle (Dionaea muscipula). Sie lockt die Tiere mit Nektar in ihre Fangblätter\, die sich dann in Sekundenschnelle schließen \nEintritt: 6 €\nAnmeldung: Botanischer Garten\, Telefon: +49 331 977-1952
URL:https://botg-potsdam.de/veranstaltung/aufgepasst-sonst-schnappen-sie-zu-2/
LOCATION:Schaugewächshäuser
ATTACH;FMTTYPE=image/jpeg:https://botg-potsdam.de/wp-content/uploads/2022/12/Venusfalle-AdobeStock_454430088_-helivideo-scaled.jpeg
END:VEVENT
END:VCALENDAR