BEGIN:VCALENDAR
VERSION:2.0
PRODID:-//Freundeskreis des Botanischen Gartens der Universität Potsdam e.V. - ECPv6.15.20//NONSGML v1.0//EN
CALSCALE:GREGORIAN
METHOD:PUBLISH
X-WR-CALNAME:Freundeskreis des Botanischen Gartens der Universität Potsdam e.V.
X-ORIGINAL-URL:https://botg-potsdam.de
X-WR-CALDESC:Veranstaltungen für Freundeskreis des Botanischen Gartens der Universität Potsdam e.V.
REFRESH-INTERVAL;VALUE=DURATION:PT1H
X-Robots-Tag:noindex
X-PUBLISHED-TTL:PT1H
BEGIN:VTIMEZONE
TZID:Europe/Berlin
BEGIN:DAYLIGHT
TZOFFSETFROM:+0100
TZOFFSETTO:+0200
TZNAME:CEST
DTSTART:20250330T010000
END:DAYLIGHT
BEGIN:STANDARD
TZOFFSETFROM:+0200
TZOFFSETTO:+0100
TZNAME:CET
DTSTART:20251026T010000
END:STANDARD
BEGIN:DAYLIGHT
TZOFFSETFROM:+0100
TZOFFSETTO:+0200
TZNAME:CEST
DTSTART:20260329T010000
END:DAYLIGHT
BEGIN:STANDARD
TZOFFSETFROM:+0200
TZOFFSETTO:+0100
TZNAME:CET
DTSTART:20261025T010000
END:STANDARD
BEGIN:DAYLIGHT
TZOFFSETFROM:+0100
TZOFFSETTO:+0200
TZNAME:CEST
DTSTART:20270328T010000
END:DAYLIGHT
BEGIN:STANDARD
TZOFFSETFROM:+0200
TZOFFSETTO:+0100
TZNAME:CET
DTSTART:20271031T010000
END:STANDARD
END:VTIMEZONE
BEGIN:VEVENT
DTSTART;TZID=Europe/Berlin:20260223T093000
DTEND;TZID=Europe/Berlin:20260308T160000
DTSTAMP:20260421T210419
CREATED:20221219T151229Z
LAST-MODIFIED:20260113T110126Z
UID:368-1771839000-1772985600@botg-potsdam.de
SUMMARY:Blütenpracht der Azaleen und Kamelien
DESCRIPTION:Ausstellung \nMit der Blüte der Azaleen läutet der Botanische Garten den Frühling ein. Zusammen mit Kamelien und anderen Frühblühern zeigen diese auch als Zimmerblumen beliebten Pflanzen ihre Blütenpracht in den Schaugewächshäusern an der Maulbeerallee. Besonders eindrucksvoll sind zahlreiche große Exemplare alter Sorten in voller Blüte. \nEintritt: 2 €\, ermäßigt 1 €\, Mitglieder des Freundeskreises frei
URL:https://botg-potsdam.de/veranstaltung/bluetenpracht-der-azaleen-und-kamelien/
LOCATION:Schaugewächshäuser
CATEGORIES:Ausstellung
ATTACH;FMTTYPE=image/jpeg:https://botg-potsdam.de/wp-content/uploads/2022/12/KamelienausstellungNeeltje-Schilling-scaled.jpg
ORGANIZER;CN="Botanischer Garten der Universit%C3%A4t Potsdam":MAILTO:botanischer-garten@uni-potsdam.de
END:VEVENT
END:VCALENDAR