BEGIN:VCALENDAR
VERSION:2.0
PRODID:-//Freundeskreis des Botanischen Gartens der Universität Potsdam e.V. - ECPv6.15.20//NONSGML v1.0//EN
CALSCALE:GREGORIAN
METHOD:PUBLISH
X-ORIGINAL-URL:https://botg-potsdam.de
X-WR-CALDESC:Veranstaltungen für Freundeskreis des Botanischen Gartens der Universität Potsdam e.V.
REFRESH-INTERVAL;VALUE=DURATION:PT1H
X-Robots-Tag:noindex
X-PUBLISHED-TTL:PT1H
BEGIN:VTIMEZONE
TZID:Europe/Berlin
BEGIN:DAYLIGHT
TZOFFSETFROM:+0100
TZOFFSETTO:+0200
TZNAME:CEST
DTSTART:20250330T010000
END:DAYLIGHT
BEGIN:STANDARD
TZOFFSETFROM:+0200
TZOFFSETTO:+0100
TZNAME:CET
DTSTART:20251026T010000
END:STANDARD
BEGIN:DAYLIGHT
TZOFFSETFROM:+0100
TZOFFSETTO:+0200
TZNAME:CEST
DTSTART:20260329T010000
END:DAYLIGHT
BEGIN:STANDARD
TZOFFSETFROM:+0200
TZOFFSETTO:+0100
TZNAME:CET
DTSTART:20261025T010000
END:STANDARD
BEGIN:DAYLIGHT
TZOFFSETFROM:+0100
TZOFFSETTO:+0200
TZNAME:CEST
DTSTART:20270328T010000
END:DAYLIGHT
BEGIN:STANDARD
TZOFFSETFROM:+0200
TZOFFSETTO:+0100
TZNAME:CET
DTSTART:20271031T010000
END:STANDARD
END:VTIMEZONE
BEGIN:VEVENT
DTSTART;VALUE=DATE:20260130
DTEND;VALUE=DATE:20260202
DTSTAMP:20260421T224706
CREATED:20240114T115024Z
LAST-MODIFIED:20260113T104637Z
UID:460-1769731200-1769990399@botg-potsdam.de
SUMMARY:Faszination Orchideen
DESCRIPTION:Ausstellung mit Verkauf und Beratung \nVon tiefem Blau über zartes Violett bis zu strahlendem Weiß reicht die Farbpalette der Orchideen. Die Ausstellung blühender Wild- und Zuchtformen vermittelt interessantes Hintergrundwissen. Orchideenfreunde können sich nicht nur inspirieren und fachlich beraten lassen\, sondern auch diverse Exemplare in allen Größen und Farben käuflich erwerben. \nOrt: Schaugewächshäuser\, Maulbeerallee 2\, 14469 Potsdam\nEintritt: 2 €\, ermäßigt 1 €\, Mitglieder des Freundeskreises frei\nKontakt: Botanischer Garten\, Telefon: +49 331 977-1952
URL:https://botg-potsdam.de/veranstaltung/faszination-orchideen-2/
LOCATION:Schaugewächshäuser
ATTACH;FMTTYPE=image/jpeg:https://botg-potsdam.de/wp-content/uploads/2024/01/Orchideen.jpg
ORGANIZER;CN="Botanischer Garten der Universit%C3%A4t Potsdam":MAILTO:botanischer-garten@uni-potsdam.de
END:VEVENT
END:VCALENDAR